Workbook

Sheet Boletín de Inscripción SEIEM
D4: BOLETÍN DE INSCRIPCIÓN | K4: Información sobre la inscripción del XXIII SIMPOSIO DE LA SEIEM (Valladolid, 4 a 6 de septiembre de 2019):
D5: XXIII SIMPOSIO DE LA SEIEM
K7: Para poder rellenar el formulario es necesario haber realizado previamente el ingreso de la cuota de inscripción y tener una copia del resguardo de dicho ingreso, así como, si ha lugar, un justificante de matrícula en un programa de estudios de grado, máster o doctorado.
B8: Nombre:
B10: Apellidos:
B12: Universidad: | K12: La cuota de inscripción que corresponda (ver en la tabla más abajo) deberá ser ingresada en la cuenta de la SEIEM: B.Santander ES65 0049 1929 06 2510002407
B14: Dirección postal profesional: | K14: Para residentes fuera de España, se detallan a continuación los datos completos para realizar el abono bancario:
B16: Teléfono profesional:
B18: Correo electrónico:
B20: Domicilio particular:
B22: Teléfono particular:
B24: ¿Necesitas factura? Indica sí o no.
B26: En caso de que necesites una factura, indica los datos que deben aparecer en la misma, y separados en líneas si así deseas que aparezcan en la factura. Revísalos con atención, pues serán los que aparezcan en la factura que se emita.
B27: Línea 1:
B28: Línea 2:
B29: Línea 3:
B30: Línea 4:
B32: Marca con una X aquellos grupos de investigación en los que desees participar:
C34: Aprendizaje de la Geometría
C35: Didáctica del Análisis Matemático
C36: Didáctica de la Estadística, Probabilidad y Combinatoria
C37: Pensamiento Numérico y Algebraico
C38: Historia de las Matemáticas y Educación Matemática
C39: Conocimiento y Desarrollo Profesional del Profesor
C40: Investigación en Educación Matemática Infantil
C41: Didáctica de la Matemática como Disciplina Científica
B43: Marca con una X si tienes intención de participar:
C45: Sesión de formación y docencia universitaria
B47: Marca con una X si tienes intención de asistir a la cena de gala:
C49: Cena de gala (viernes 6)
B51: Marca con una X si tienes intención de participar en el programa social del congreso (a partir de las 20h):
C53: Programa social del miércoles, 4 de septiembre
C54: Programa social del jueves, 5 de septiembre
B56: Envíe por correo electrónico el boletín de inscripción, junto con copia del resguardo de ingreso al Coordinador del XXIII Simposio:
C58: Dr. José María Marbán Prieto
C59: seiem2019@uva.es
B61: La Cuota de inscripción deberá ser ingresada en la cuenta de la SEIEM:
C63: Santander ES65 0049 1929 06 2510002407
B65: Cuota de inscripción (hasta el 30-06-2019)
B67: ASISTENTE | H67: Cuota | I67: Cuota+cena(€)
B68: Socios de la SEIEM y Sociedades con convenio | H68: 100* | I68: 120*
B69: No socios | H69: 145 | I69: 165
B70: Jubilados | H70: 60 | I70: 80
B71: Estudiantes de Grado, Máster o Doctorado socios (justificación de matrícula o de tutor) | H71: 45 | I71: 65
B72: Estudiantes de Grado, Máster o Doctorado no socios (justificación de matrícula o de tutor) | H72: 85* | I72: 105*
B73: * La Real Sociedad Matemática Española (RSME) tiene un convenio con la SEIEM de reducción de la cuota de inscripción en el Simposio para sus socios.
B74: ** Posibilidad de hacerse socio de SEIEM al inscribirse en el Simposio: Si desea formalizar su afiliación como socio de SEIEM puede rellenar el formulario de afiliación situado en la siguiente dirección web: http://www.seiem.es/org/afiliacion.shtml y enviar escaneado el mismo a la dirección de correo electrónico tesoreria@seiem.es
B76: Cuotas de inscripción (a partir de 01-07-2019)
B77: A partir del 1 de julio de 2019, todas las cuotas de inscripción se verán incrementadas en 30 € con respecto al precio indicado en la tabla anterior.

Sheet Datos del cuestionario
J1: Datos de Factura | N1: Grupos de Investigación | X1: Programa social
A2: Nombre | B2: Apellidos | C2: Universidad | D2: Dirección postal profesional | E2: Teléfono profesional | F2: Correo electrónico | G2: Domicilio particular | H2: Teléfono particular | I2: Necesita factura | J2: Línea factura 1 | K2: Línea factura 2 | L2: Línea factura 3 | M2: Línea factura 4 | N2: ApGeo | O2: GIDAM | P2: DEPC | Q2: PNA | R2: HMEM | S2: CDPP | T2: IEMI | U2: DMDC | V2: FyDU | W2: Cena de gala | X2: Programa social miércoles 4 | Y2: Programa social jueves 5
A3: ='Boletín de Inscripción SEIEM'!$C$8 -> 0 | B3: ='Boletín de Inscripción SEIEM'!$C$10 -> 0 | C3: ='Boletín de Inscripción SEIEM'!$C$12 -> 0 | D3: ='Boletín de Inscripción SEIEM'!$D$14 -> 0 | E3: ='Boletín de Inscripción SEIEM'!$D$16 -> 0 | F3: ='Boletín de Inscripción SEIEM'!$D$18 -> 0 | G3: ='Boletín de Inscripción SEIEM'!$D$20 -> 0 | H3: ='Boletín de Inscripción SEIEM'!$D$22 -> 0 | I3: ='Boletín de Inscripción SEIEM'!$E$24 -> 0 | J3: ='Boletín de Inscripción SEIEM'!$C$27 -> 0 | K3: ='Boletín de Inscripción SEIEM'!$C$28 -> 0 | L3: ='Boletín de Inscripción SEIEM'!$C$29 -> 0 | M3: ='Boletín de Inscripción SEIEM'!$C$30 -> 0 | N3: ='Boletín de Inscripción SEIEM'!$H$34 -> 0 | O3: ='Boletín de Inscripción SEIEM'!$H$35 -> 0 | P3: ='Boletín de Inscripción SEIEM'!$H$36 -> 0 | Q3: ='Boletín de Inscripción SEIEM'!$H$37 -> 0 | R3: ='Boletín de Inscripción SEIEM'!$H$38 -> 0 | S3: ='Boletín de Inscripción SEIEM'!$H$39 -> 0 | T3: ='Boletín de Inscripción SEIEM'!$H$40 -> 0 | U3: ='Boletín de Inscripción SEIEM'!$H$41 -> 0 | V3: ='Boletín de Inscripción SEIEM'!$H$45 -> 0 | W3: ='Boletín de Inscripción SEIEM'!$H$49 -> 0 | X3: ='Boletín de Inscripción SEIEM'!$H$53 -> 0 | Y3: ='Boletín de Inscripción SEIEM'!$H$54 -> 0
